BEGIN:VCALENDAR
VERSION:2.0
PRODID:-//Bohneschränzer Mältige - ECPv6.6.4//NONSGML v1.0//EN
CALSCALE:GREGORIAN
METHOD:PUBLISH
X-ORIGINAL-URL:https://bohneschraenzer.ch
X-WR-CALDESC:Veranstaltungen für Bohneschränzer Mältige
REFRESH-INTERVAL;VALUE=DURATION:PT1H
X-Robots-Tag:noindex
X-PUBLISHED-TTL:PT1H
BEGIN:VTIMEZONE
TZID:Europe/Paris
BEGIN:DAYLIGHT
TZOFFSETFROM:+0100
TZOFFSETTO:+0200
TZNAME:CEST
DTSTART:20260329T010000
END:DAYLIGHT
BEGIN:STANDARD
TZOFFSETFROM:+0200
TZOFFSETTO:+0100
TZNAME:CET
DTSTART:20261025T010000
END:STANDARD
END:VTIMEZONE
BEGIN:VEVENT
DTSTART;VALUE=DATE:20260307
DTEND;VALUE=DATE:20260309
DTSTAMP:20260422T192624
CREATED:20250831T184413Z
LAST-MODIFIED:20250831T184413Z
UID:12622-1772841600-1773014399@bohneschraenzer.ch
SUMMARY:Skiweekend
DESCRIPTION:
URL:https://bohneschraenzer.ch/event/skiweekend
CATEGORIES:BOHNETOUR
END:VEVENT
BEGIN:VEVENT
DTSTART;VALUE=DATE:20260221
DTEND;VALUE=DATE:20260222
DTSTAMP:20260422T192624
CREATED:20250831T184333Z
LAST-MODIFIED:20250831T184333Z
UID:12620-1771632000-1771718399@bohneschraenzer.ch
SUMMARY:Fasnachtsfüür
DESCRIPTION:
URL:https://bohneschraenzer.ch/event/fasnachtsfueuer
LOCATION:Meltingen
CATEGORIES:BOHNETOUR
END:VEVENT
BEGIN:VEVENT
DTSTART;VALUE=DATE:20260212
DTEND;VALUE=DATE:20260218
DTSTAMP:20260422T192624
CREATED:20250831T184212Z
LAST-MODIFIED:20250831T184212Z
UID:12618-1770854400-1771372799@bohneschraenzer.ch
SUMMARY:Fasnacht 2026
DESCRIPTION:
URL:https://bohneschraenzer.ch/event/fasnacht-2026
CATEGORIES:BOHNETOUR
END:VEVENT
BEGIN:VEVENT
DTSTART;VALUE=DATE:20260131
DTEND;VALUE=DATE:20260201
DTSTAMP:20260422T192624
CREATED:20250831T184054Z
LAST-MODIFIED:20250831T184054Z
UID:12614-1769817600-1769903999@bohneschraenzer.ch
SUMMARY:40 Jahre Horeschränzer Zermatt
DESCRIPTION:
URL:https://bohneschraenzer.ch/event/40-jahre-horeschraenzer-zermatt
LOCATION:Zermatt
CATEGORIES:BOHNETOUR
END:VEVENT
BEGIN:VEVENT
DTSTART;VALUE=DATE:20260124
DTEND;VALUE=DATE:20260125
DTSTAMP:20260422T192624
CREATED:20250831T183716Z
LAST-MODIFIED:20250831T183716Z
UID:12612-1769212800-1769299199@bohneschraenzer.ch
SUMMARY:Guggekonzert Solothurn
DESCRIPTION:
URL:https://bohneschraenzer.ch/event/guggekonzert-solothurn
CATEGORIES:BOHNETOUR
END:VEVENT
END:VCALENDAR